BEGIN:VCALENDAR
VERSION:2.0
PRODID:-//time.you/holidays//NONSGML v1.0//EN
BEGIN:VEVENT
UID:43efab67-e544-4a92-ba2d-f1c678710986
DTSTAMP:20260420T071818Z
DTSTART;VALUE=DATE:20260420
SUMMARY:National Health Day (observed) (Kiribati)
END:VEVENT
END:VCALENDAR