BEGIN:VCALENDAR
VERSION:2.0
PRODID:-//time.you/holidays//NONSGML v1.0//EN
BEGIN:VEVENT
UID:65fb7993-8c5d-4295-a582-57a13f388184
DTSTAMP:20260421T174837Z
DTSTART;VALUE=DATE:20280807
SUMMARY:Youth Day (observed) (Kiribati)
END:VEVENT
END:VCALENDAR