BEGIN:VCALENDAR
VERSION:2.0
PRODID:-//time.you/holidays//NONSGML v1.0//EN
BEGIN:VEVENT
UID:fb6d2c56-3df5-4b5c-92c3-3b61786185bf
DTSTAMP:20260422T023158Z
DTSTART;VALUE=DATE:20260805
SUMMARY:Youth Day (Kiribati)
END:VEVENT
END:VCALENDAR