BEGIN:VCALENDAR
VERSION:2.0
PRODID:-//time.you/holidays//NONSGML v1.0//EN
BEGIN:VEVENT
UID:16242a7d-1c53-4a2e-9010-dbe1a0c59fda
DTSTAMP:20260420T062456Z
DTSTART;VALUE=DATE:20260321
SUMMARY:Eid al-Fitr Holiday (estimated) (Kuwait)
END:VEVENT
END:VCALENDAR