BEGIN:VCALENDAR
VERSION:2.0
PRODID:-//time.you/holidays//NONSGML v1.0//EN
BEGIN:VEVENT
UID:21f46593-ed1c-4ab6-a209-4ed9f973320f
DTSTAMP:20260421T233949Z
DTSTART;VALUE=DATE:20260616
SUMMARY:Islamic New Year (estimated) (Kuwait)
END:VEVENT
END:VCALENDAR