BEGIN:VCALENDAR
VERSION:2.0
PRODID:-//time.you/holidays//NONSGML v1.0//EN
BEGIN:VEVENT
UID:be0c54db-7bc4-490f-a108-ca7ac64b59a5
DTSTAMP:20260421T193810Z
DTSTART;VALUE=DATE:20260505
SUMMARY:Constitution Day (Kyrgyzstan)
END:VEVENT
END:VCALENDAR