BEGIN:VCALENDAR
VERSION:2.0
PRODID:-//time.you/holidays//NONSGML v1.0//EN
BEGIN:VEVENT
UID:bb807139-db5c-43b4-a1eb-f37585f1b0c9
DTSTAMP:20260425T135627Z
DTSTART;VALUE=DATE:20260223
SUMMARY:Fatherland Defender's Day (Kyrgyzstan)
END:VEVENT
END:VCALENDAR