BEGIN:VCALENDAR
VERSION:2.0
PRODID:-//time.you/holidays//NONSGML v1.0//EN
BEGIN:VEVENT
UID:e8e8846f-02f9-4e6e-93b7-5145f3373bb1
DTSTAMP:20260422T071519Z
DTSTART;VALUE=DATE:20260308
SUMMARY:International Women's Day (Kyrgyzstan)
END:VEVENT
END:VCALENDAR