BEGIN:VCALENDAR
VERSION:2.0
PRODID:-//time.you/holidays//NONSGML v1.0//EN
BEGIN:VEVENT
UID:a87024fe-0311-49c8-b290-4aa4bdcab940
DTSTAMP:20260420T125835Z
DTSTART;VALUE=DATE:20260101
SUMMARY:New Year's Day (Kyrgyzstan)
END:VEVENT
END:VCALENDAR