BEGIN:VCALENDAR
VERSION:2.0
PRODID:-//time.you/holidays//NONSGML v1.0//EN
BEGIN:VEVENT
UID:4f07a03c-e961-4b33-ac50-6b580dca7d19
DTSTAMP:20260420T073834Z
DTSTART;VALUE=DATE:20261231
SUMMARY:New Year's Eve (Kyrgyzstan)
END:VEVENT
END:VCALENDAR