BEGIN:VCALENDAR
VERSION:2.0
PRODID:-//time.you/holidays//NONSGML v1.0//EN
BEGIN:VEVENT
UID:b561221d-194a-4aae-875d-64e7a43bd562
DTSTAMP:20260422T041148Z
DTSTART;VALUE=DATE:20260320
SUMMARY:Orozo Ait (estimated) (Kyrgyzstan)
END:VEVENT
END:VCALENDAR