BEGIN:VCALENDAR
VERSION:2.0
PRODID:-//time.you/holidays//NONSGML v1.0//EN
BEGIN:VEVENT
UID:74b197d5-83f0-445d-b24c-ba2d76d69b67
DTSTAMP:20260420T002118Z
DTSTART;VALUE=DATE:20261225
SUMMARY:Christmas Day (Latvia)
END:VEVENT
END:VCALENDAR