BEGIN:VCALENDAR
VERSION:2.0
PRODID:-//time.you/holidays//NONSGML v1.0//EN
BEGIN:VEVENT
UID:92fe6a59-a03b-4dfa-96de-339d9ba644e4
DTSTAMP:20260421T221222Z
DTSTART;VALUE=DATE:20230529
SUMMARY:Day the Latvian hockey team won the bronze medal at the 2023 World Ice Hockey Championship (Latvia)
END:VEVENT
END:VCALENDAR