BEGIN:VCALENDAR
VERSION:2.0
PRODID:-//time.you/holidays//NONSGML v1.0//EN
BEGIN:VEVENT
UID:adb89b50-0488-456b-874f-2fb0b6a66c10
DTSTAMP:20260420T230154Z
DTSTART;VALUE=DATE:20260406
SUMMARY:Easter Monday (Latvia)
END:VEVENT
END:VCALENDAR