BEGIN:VCALENDAR
VERSION:2.0
PRODID:-//time.you/holidays//NONSGML v1.0//EN
BEGIN:VEVENT
UID:897ed275-c516-4c3f-a373-2f142e463133
DTSTAMP:20260421T055704Z
DTSTART;VALUE=DATE:20260403
SUMMARY:Good Friday (Latvia)
END:VEVENT
END:VCALENDAR