BEGIN:VCALENDAR
VERSION:2.0
PRODID:-//time.you/holidays//NONSGML v1.0//EN
BEGIN:VEVENT
UID:df60325e-bbc4-4f18-9ee8-d759d779ccfb
DTSTAMP:20260420T195241Z
DTSTART;VALUE=DATE:20260623
SUMMARY:Midsummer Eve (Latvia)
END:VEVENT
END:VCALENDAR