BEGIN:VCALENDAR
VERSION:2.0
PRODID:-//time.you/holidays//NONSGML v1.0//EN
BEGIN:VEVENT
UID:4125d206-6b3a-4fe3-b77d-2a8cdbe4d0a5
DTSTAMP:20260424T092312Z
DTSTART;VALUE=DATE:20261231
SUMMARY:New Year's Eve (Latvia)
END:VEVENT
END:VCALENDAR