BEGIN:VCALENDAR
VERSION:2.0
PRODID:-//time.you/holidays//NONSGML v1.0//EN
BEGIN:VEVENT
UID:ec29033d-d719-44cd-8f28-ff1fedb635a8
DTSTAMP:20260424T163212Z
DTSTART;VALUE=DATE:20261226
SUMMARY:Second Day of Christmas (Latvia)
END:VEVENT
END:VCALENDAR