BEGIN:VCALENDAR
VERSION:2.0
PRODID:-//time.you/holidays//NONSGML v1.0//EN
BEGIN:VEVENT
UID:5f7617e3-1ff1-4b53-bbb2-dc9e18d4e818
DTSTAMP:20260421T193830Z
DTSTART;VALUE=DATE:20250606
SUMMARY:Eid al-Adha (Lebanon)
END:VEVENT
END:VCALENDAR