BEGIN:VCALENDAR
VERSION:2.0
PRODID:-//time.you/holidays//NONSGML v1.0//EN
BEGIN:VEVENT
UID:87c7ad94-4067-4e25-8cb5-9f16e0b69b90
DTSTAMP:20260422T051744Z
DTSTART;VALUE=DATE:20260325
SUMMARY:Feast of the Annunciation (Lebanon)
END:VEVENT
END:VCALENDAR