BEGIN:VCALENDAR
VERSION:2.0
PRODID:-//time.you/holidays//NONSGML v1.0//EN
BEGIN:VEVENT
UID:88f59e54-eb1a-4903-b4f6-5c1b146b7041
DTSTAMP:20260421T104825Z
DTSTART;VALUE=DATE:20261122
SUMMARY:Independence Day (Lebanon)
END:VEVENT
END:VCALENDAR