BEGIN:VCALENDAR
VERSION:2.0
PRODID:-//time.you/holidays//NONSGML v1.0//EN
BEGIN:VEVENT
UID:cdb63d18-d738-4ea8-a6c2-cff4edc7711b
DTSTAMP:20260424T053248Z
DTSTART;VALUE=DATE:20250626
SUMMARY:Islamic New Year (Lebanon)
END:VEVENT
END:VCALENDAR