BEGIN:VCALENDAR
VERSION:2.0
PRODID:-//time.you/holidays//NONSGML v1.0//EN
BEGIN:VEVENT
UID:c5866831-0608-481d-a58e-ffa9a0b6d702
DTSTAMP:20260420T154848Z
DTSTART;VALUE=DATE:20260101
SUMMARY:New Year's Day (Lebanon)
END:VEVENT
END:VCALENDAR