BEGIN:VCALENDAR
VERSION:2.0
PRODID:-//time.you/holidays//NONSGML v1.0//EN
BEGIN:VEVENT
UID:61e7a844-d08b-43d6-b3f1-8ffff836f735
DTSTAMP:20260421T130500Z
DTSTART;VALUE=DATE:20260410
SUMMARY:Orthodox Good Friday (Lebanon)
END:VEVENT
END:VCALENDAR