BEGIN:VCALENDAR
VERSION:2.0
PRODID:-//time.you/holidays//NONSGML v1.0//EN
BEGIN:VEVENT
UID:3b14f72c-b169-4746-a6a8-35040d055cc7
DTSTAMP:20260421T143447Z
DTSTART;VALUE=DATE:20280415
SUMMARY:Orthodox Holy Saturday (Lebanon)
END:VEVENT
END:VCALENDAR