BEGIN:VCALENDAR
VERSION:2.0
PRODID:-//time.you/holidays//NONSGML v1.0//EN
BEGIN:VEVENT
UID:327c1d55-02c0-4c62-808b-e9d8a21e50d0
DTSTAMP:20260420T071844Z
DTSTART;VALUE=DATE:20260510
SUMMARY:Resistance and Liberation Day (Lebanon)
END:VEVENT
END:VCALENDAR