BEGIN:VCALENDAR
VERSION:2.0
PRODID:-//time.you/holidays//NONSGML v1.0//EN
BEGIN:VEVENT
UID:63474425-e65b-4fa1-9fa6-752cf30a7dd8
DTSTAMP:20260422T040637Z
DTSTART;VALUE=DATE:20260525
SUMMARY:Africa/Heroes Day (Lesotho)
END:VEVENT
END:VCALENDAR