BEGIN:VCALENDAR
VERSION:2.0
PRODID:-//time.you/holidays//NONSGML v1.0//EN
BEGIN:VEVENT
UID:5bdc2703-acd4-496d-b66a-1ddb48b5f4c6
DTSTAMP:20260420T175144Z
DTSTART;VALUE=DATE:20260514
SUMMARY:Ascension Day (Lesotho)
END:VEVENT
END:VCALENDAR