BEGIN:VCALENDAR
VERSION:2.0
PRODID:-//time.you/holidays//NONSGML v1.0//EN
BEGIN:VEVENT
UID:405a19fe-16d3-4924-9b33-89cfbe6915f0
DTSTAMP:20260421T082335Z
DTSTART;VALUE=DATE:20261226
SUMMARY:Boxing Day (Lesotho)
END:VEVENT
END:VCALENDAR