BEGIN:VCALENDAR
VERSION:2.0
PRODID:-//time.you/holidays//NONSGML v1.0//EN
BEGIN:VEVENT
UID:e9ba3ea1-111b-4655-8c5a-d102f27a9e72
DTSTAMP:20260420T130442Z
DTSTART;VALUE=DATE:20261225
SUMMARY:Christmas Day (Lesotho)
END:VEVENT
END:VCALENDAR