BEGIN:VCALENDAR
VERSION:2.0
PRODID:-//time.you/holidays//NONSGML v1.0//EN
BEGIN:VEVENT
UID:f9d792d2-2fec-46a8-8168-7e9877ce38f0
DTSTAMP:20260420T130241Z
DTSTART;VALUE=DATE:20261004
SUMMARY:Independence Day (Lesotho)
END:VEVENT
END:VCALENDAR