BEGIN:VCALENDAR
VERSION:2.0
PRODID:-//time.you/holidays//NONSGML v1.0//EN
BEGIN:VEVENT
UID:2eb6202a-0bc5-4241-b305-f2dbd8745a82
DTSTAMP:20260421T001517Z
DTSTART;VALUE=DATE:20260501
SUMMARY:Workers' Day (Lesotho)
END:VEVENT
END:VCALENDAR