BEGIN:VCALENDAR
VERSION:2.0
PRODID:-//time.you/holidays//NONSGML v1.0//EN
BEGIN:VEVENT
UID:dcbbba69-f283-4c71-a4f8-81a00466496e
DTSTAMP:20260420T013911Z
DTSTART;VALUE=DATE:20261225
SUMMARY:Christmas Day (Liberia)
END:VEVENT
END:VCALENDAR