BEGIN:VCALENDAR
VERSION:2.0
PRODID:-//time.you/holidays//NONSGML v1.0//EN
BEGIN:VEVENT
UID:4a53829a-d665-4d77-9bff-ae3decde35c6
DTSTAMP:20260421T193636Z
DTSTART;VALUE=DATE:20260311
SUMMARY:Decoration Day (Liberia)
END:VEVENT
END:VCALENDAR