BEGIN:VCALENDAR
VERSION:2.0
PRODID:-//time.you/holidays//NONSGML v1.0//EN
BEGIN:VEVENT
UID:a24cc384-f7ce-486a-abb3-47055e9e9f59
DTSTAMP:20260423T224632Z
DTSTART;VALUE=DATE:20260410
SUMMARY:Fasting and Prayer Day (Liberia)
END:VEVENT
END:VCALENDAR