BEGIN:VCALENDAR
VERSION:2.0
PRODID:-//time.you/holidays//NONSGML v1.0//EN
BEGIN:VEVENT
UID:7c84446d-3af5-403d-bfa3-fff59fe6cd67
DTSTAMP:20260420T130430Z
DTSTART;VALUE=DATE:20260726
SUMMARY:Independence Day (Liberia)
END:VEVENT
END:VCALENDAR