BEGIN:VCALENDAR
VERSION:2.0
PRODID:-//time.you/holidays//NONSGML v1.0//EN
BEGIN:VEVENT
UID:9ab39e08-5f18-490c-80ba-eaf7ac7b5be0
DTSTAMP:20260419T234836Z
DTSTART;VALUE=DATE:20260101
SUMMARY:New Year's Day (Liberia)
END:VEVENT
END:VCALENDAR