BEGIN:VCALENDAR
VERSION:2.0
PRODID:-//time.you/holidays//NONSGML v1.0//EN
BEGIN:VEVENT
UID:c321beb4-8524-45d1-bd80-6ceb115e40f6
DTSTAMP:20260422T070643Z
DTSTART;VALUE=DATE:20261129
SUMMARY:Tubman Administration Goodwill Day (Liberia)
END:VEVENT
END:VCALENDAR