BEGIN:VCALENDAR
VERSION:2.0
PRODID:-//time.you/holidays//NONSGML v1.0//EN
BEGIN:VEVENT
UID:d47064c6-7a56-421e-82c5-e1a11cef0f56
DTSTAMP:20260419T170742Z
DTSTART;VALUE=DATE:20260217
SUMMARY:Anniversary of the February 17 Revolution (Libya)
END:VEVENT
END:VCALENDAR