BEGIN:VCALENDAR
VERSION:2.0
PRODID:-//time.you/holidays//NONSGML v1.0//EN
BEGIN:VEVENT
UID:35c8815d-ea6f-471c-ada2-0a340cb0c3a4
DTSTAMP:20260420T164225Z
DTSTART;VALUE=DATE:20250606
SUMMARY:Eid al-Adha (Libya)
END:VEVENT
END:VCALENDAR