BEGIN:VCALENDAR
VERSION:2.0
PRODID:-//time.you/holidays//NONSGML v1.0//EN
BEGIN:VEVENT
UID:b3e48e41-0c36-4c6f-ae63-15251d47f23f
DTSTAMP:20260420T022158Z
DTSTART;VALUE=DATE:20261224
SUMMARY:Independence Day (Libya)
END:VEVENT
END:VCALENDAR