BEGIN:VCALENDAR
VERSION:2.0
PRODID:-//time.you/holidays//NONSGML v1.0//EN
BEGIN:VEVENT
UID:2de9370d-eb68-48db-8c0d-00da314baa4e
DTSTAMP:20260420T073525Z
DTSTART;VALUE=DATE:20250626
SUMMARY:Islamic New Year (Libya)
END:VEVENT
END:VCALENDAR