BEGIN:VCALENDAR
VERSION:2.0
PRODID:-//time.you/holidays//NONSGML v1.0//EN
BEGIN:VEVENT
UID:06c7d7cc-d51b-4420-b108-f2c3d669de06
DTSTAMP:20260420T062528Z
DTSTART;VALUE=DATE:20270814
SUMMARY:National Environmental Sanitation Day; Prophet's Birthday (estimated) (Libya)
END:VEVENT
END:VCALENDAR