BEGIN:VCALENDAR
VERSION:2.0
PRODID:-//time.you/holidays//NONSGML v1.0//EN
BEGIN:VEVENT
UID:34140aff-d703-4655-a5ae-c3d0a24b1d95
DTSTAMP:20260421T152328Z
DTSTART;VALUE=DATE:20260825
SUMMARY:Prophet's Birthday (estimated) (Libya)
END:VEVENT
END:VCALENDAR