BEGIN:VCALENDAR
VERSION:2.0
PRODID:-//time.you/holidays//NONSGML v1.0//EN
BEGIN:VEVENT
UID:98a7073d-7e17-441e-b9c4-ce34cb57b7f9
DTSTAMP:20260423T122254Z
DTSTART;VALUE=DATE:20240915
SUMMARY:Prophet's Birthday (Libya)
END:VEVENT
END:VCALENDAR