BEGIN:VCALENDAR
VERSION:2.0
PRODID:-//time.you/holidays//NONSGML v1.0//EN
BEGIN:VEVENT
UID:02978010-7abf-460e-94cd-6077aedda23e
DTSTAMP:20260420T022149Z
DTSTART;VALUE=DATE:20231210
SUMMARY:Public Holiday (Libya)
END:VEVENT
END:VCALENDAR