BEGIN:VCALENDAR
VERSION:2.0
PRODID:-//time.you/holidays//NONSGML v1.0//EN
BEGIN:VEVENT
UID:6235cacc-c98c-4387-a213-61da742b277d
DTSTAMP:20260421T154453Z
DTSTART;VALUE=DATE:20260514
SUMMARY:Ascension Day (Liechtenstein)
END:VEVENT
END:VCALENDAR