BEGIN:VCALENDAR
VERSION:2.0
PRODID:-//time.you/holidays//NONSGML v1.0//EN
BEGIN:VEVENT
UID:edd32d8c-5c2a-48e2-bbe7-1142fcfda432
DTSTAMP:20260420T024541Z
DTSTART;VALUE=DATE:20260604
SUMMARY:Corpus Christi (Liechtenstein)
END:VEVENT
END:VCALENDAR