BEGIN:VCALENDAR
VERSION:2.0
PRODID:-//time.you/holidays//NONSGML v1.0//EN
BEGIN:VEVENT
UID:500442f0-76ae-4c45-9585-802b3a1f1a48
DTSTAMP:20260420T095415Z
DTSTART;VALUE=DATE:20260406
SUMMARY:Easter Monday (Liechtenstein)
END:VEVENT
END:VCALENDAR