BEGIN:VCALENDAR
VERSION:2.0
PRODID:-//time.you/holidays//NONSGML v1.0//EN
BEGIN:VEVENT
UID:2e4483af-9581-4bc9-8226-ee1fb67a4ce1
DTSTAMP:20260421T223224Z
DTSTART;VALUE=DATE:20261226
SUMMARY:Saint Stephen's Day (Liechtenstein)
END:VEVENT
END:VCALENDAR